BEGIN:VCALENDAR
VERSION:2.0
PRODID:-//ChamberMaster//Event Calendar 2.0//EN
METHOD:PUBLISH
X-PUBLISHED-TTL:P3D
REFRESH-INTERVAL:P3D
CALSCALE:GREGORIAN
BEGIN:VEVENT
DTSTART:20240111T223000Z
DTEND:20240112T000000Z
X-MICROSOFT-CDO-ALLDAYEVENT:FALSE
SUMMARY:Greenleaf Dental Ribbon Cutting
DESCRIPTION:Join us for the ribbon cutting for Greenleaf Dental!
X-ALT-DESC;FMTTYPE=text/html:Join us for the ribbon cutting for Greenleaf Dental!&nbsp\;
LOCATION:1450 Tuskawilla Rd #116\, Winter Springs \, FL 32708
UID:e.1204.43627
SEQUENCE:3
DTSTAMP:20260421T125137Z
URL:https://business.owsrcc.org/events/details/greenleaf-dental-ribbon-cutting-43627
END:VEVENT

END:VCALENDAR
