BEGIN:VCALENDAR
VERSION:2.0
PRODID:-//ChamberMaster//Event Calendar 2.0//EN
METHOD:PUBLISH
X-PUBLISHED-TTL:P3D
REFRESH-INTERVAL:P3D
CALSCALE:GREGORIAN
BEGIN:VEVENT
DTSTART:20230913T160000Z
DTEND:20230913T200000Z
X-MICROSOFT-CDO-ALLDAYEVENT:FALSE
SUMMARY:Governor’s Job Fair\, September 13\, 2023
DESCRIPTION:Governor's Job Fair\, September 13\, 2023\n\n\n\nAll Job Seekers Welcome! Meet\, network and interview with nearly 100 companies from around the Central Florida region waiting to hire you! Find your next employer at Central Florida Employment Council | CFEC Job Fair in Orlando\, Florida\, from 12-4 pm at the Orlando Fairgrounds\, 4603 W. Colonial Drive\, Orlando\, FL 32808. This is an indoor event   rain or shine. Thousands of career openings in various industries as well as employment resources on hand to assist your job search. Dress interview ready\; bring plenty of resumes\, free admission/parking\, and no children\, please. Questions call Christian HELP/CFEC at (407) 834-4022x221. Click here to find the upcoming job fair schedule and to register today (https://www.cfec.org/job-fairs/schedule). \n\nName: Governor's Job Fair\n\nDate: September 13\, 2023\n\nDoors Open From: 12:00pm - 4:00pm\n\nLocation: Orlando Fairgrounds\, 4603 W Colonial Dr.\, Orlando\, FL 32808\n\n\n\nRegister as a CFEC Job Seeker today: https://www.cfec.org/job-seeker-sign-up
X-ALT-DESC;FMTTYPE=text/html:<strong><span style="font-family:verdana\,sans-serif"><span style="font-size:10.0pt">Governor&rsquo\;s Job Fair\, September 13\, 2023</span></span></strong><br />\n<br />\n<span style="font-family:verdana\,sans-serif"><span style="font-size:10.0pt">All Job Seekers Welcome! Meet\, network and interview with nearly 100 companies from around the Central Florida region waiting to hire you! Find your next employer at Central Florida Employment Council | CFEC Job Fair in Orlando\, Florida\, from 12-4 pm at the Orlando Fairgrounds\, 4603 W. Colonial Drive\, Orlando\, FL 32808. This is an indoor event &ndash\; rain or shine. Thousands of career openings in various industries as well as employment resources on hand to assist your job search. Dress interview ready\; bring plenty of resumes\, free admission/parking\, and no children\, please. Questions call Christian HELP/CFEC at (407) 834-4022x221. Click </span></span><span style="font-family:calibri\,sans-serif"><span style="font-size:11.0pt"><a href="https://www.cfec.org/job-fairs/schedule"><span style="color:blue"><span style="font-family:verdana\,sans-serif"><span style="font-size:10.0pt">here</span></span></span></a></span></span><span style="font-family:verdana\,sans-serif"><span style="font-size:10.0pt"> to find the upcoming job fair schedule and to register today (</span></span><span style="font-family:calibri\,sans-serif"><span style="font-size:11.0pt"><a href="https://www.cfec.org/job-fairs/schedule"><span style="font-family:verdana\,sans-serif"><span style="font-size:10.0pt">https://www.cfec.org/job-fairs/schedule</span></span></a></span></span><span style="font-family:verdana\,sans-serif"><span style="font-size:10.0pt">).&nbsp\;</span></span><br />\n<strong><span style="font-family:verdana\,sans-serif"><span style="font-size:10.0pt">Name: Governor&rsquo\;s Job Fair</span></span></strong><br />\n<strong><span style="font-family:verdana\,sans-serif"><span style="font-size:10.0pt"><strong>Date: September 13\, 2023</strong><br />\n<strong>Doors Open From: 12:00pm - 4:00pm</strong><br />\n<strong>Location: Orlando Fairgrounds\, 4603 W Colonial Dr.\, Orlando\, FL 32808</strong></span></span></strong><br />\n<br />\n<span style="font-family:verdana\,sans-serif"><span style="font-size:10.0pt"><strong><strong>Register as a CFEC Job Seeker today: </strong></strong></span></span><span style="font-family:calibri\,sans-serif"><span style="font-size:11.0pt"><a href="https://www.cfec.org/job-seeker-sign-up"><strong><span style="font-family:verdana\,sans-serif"><span style="font-size:10.0pt">https://www.cfec.org/job-seeker-sign-up</span></span></strong></a></span></span><br />\n&nbsp\;
LOCATION:The Orlando Fairgrounds\, 4603 W. Colonial Drive\, Orlando\, FL 32808.
UID:e.1204.41756
SEQUENCE:3
DTSTAMP:20260422T031813Z
URL:https://business.owsrcc.org/events/details/governor-s-job-fair-september-13-2023-41756
END:VEVENT

END:VCALENDAR
