BEGIN:VCALENDAR
VERSION:2.0
PRODID:-//ChamberMaster//Event Calendar 2.0//EN
METHOD:PUBLISH
X-PUBLISHED-TTL:P3D
REFRESH-INTERVAL:P3D
CALSCALE:GREGORIAN
BEGIN:VEVENT
DTSTART:20230928T213000Z
DTEND:20230928T230000Z
X-MICROSOFT-CDO-ALLDAYEVENT:FALSE
SUMMARY:Goods and Grace Evening Mixer
DESCRIPTION:Hosted by our Chamber Member\, St. Luke's Lutheran Church and School. They've opened a store in Casselberry called Goods and Grace for our low income citizens. They offer nominally-priced groceries in an environment that provides a dignified shopping experience. For more information\, check out their website. Join us as we tour the facility!
X-ALT-DESC;FMTTYPE=text/html:<span style="font-size:14px\;">Hosted by our Chamber Member\,&nbsp\;</span><span style="font-family: Roboto\, sans-serif\; font-size: 14px\;">St. Luke&#39\;s Lutheran Church and School. They&#39\;ve opened a store in Casselberry called Goods and Grace for our low income citizens. They offer nominally-priced groceries in an environment that provides a dignified shopping experience. For more information\, check out their <a href="http://goodsandgrace.com"><span style="color:#0000FF\;">website</span></a>. Join us as we tour the facility!</span><br />\n<br />\n&nbsp\;
LOCATION:Goods and Grace (c/o St. Luke's) 1520 E. Altamonte Dr. Casselberry\, FL 32730
UID:e.1204.41579
SEQUENCE:3
DTSTAMP:20260422T012214Z
URL:https://business.owsrcc.org/events/details/goods-and-grace-evening-mixer-41579
END:VEVENT

END:VCALENDAR
