BEGIN:VCALENDAR
VERSION:2.0
PRODID:-//ChamberMaster//Event Calendar 2.0//EN
METHOD:PUBLISH
X-PUBLISHED-TTL:P3D
REFRESH-INTERVAL:P3D
CALSCALE:GREGORIAN
BEGIN:VEVENT
DTSTART:20241130T180000Z
DTEND:20241130T230000Z
X-MICROSOFT-CDO-ALLDAYEVENT:FALSE
SUMMARY:Goblin Market | Small Business Saturday Edition
DESCRIPTION:Discover Orlando's First and Only Discount Art Mart: Gob Mart!\n\nBlack Friday is old news. This year\, it's all about Small Biz SaturGOB! On Saturday\, November 30th\, from 1-6 PM at Oviedo Mall\, experience an extraordinary celebration of creativity\, community\, and unbeatable deals.\n\nWith over 150 local vendors\, you'll find:\n\nUnique art pieces\n\nVintage treasures\n\nDelicious food options\n\nCollectibles and so much more all at the lowest prices of the year!\n\nWhether you're hunting for exclusive\, high-quality items or browsing clearance sections\, Gob Mart offers something for every style and budget.\n\nWhy Gob Mart?\n\n\n	Affordable Artisan Goods: Think artisan quality without the artisan price. Vendors are offering misprints\, deadstock\, and B-grade items alongside premium originals perfect for every price point.\n	Support Local Talent: This is your chance to shop small\, support local artists\, and discover one-of-a-kind finds.\n	Barter Like a Goblin: Bring your second-hand collectibles\, clothes\, toys\, manga\, plushies\, or art and trade them! Can't find a vendor to swap with? Head to the Trading Tent\, where treasures await and money isn't necessary.\n\n\nSkip the Stress\, Find the Joy\n\nSay goodbye to long lines and holiday shopping headaches. Gob Mart is where the spirit of community meets the thrill of discovery.\n\nCheck every name off your gift list and enjoy a shopping experience unlike any other at Small Biz SaturGOB\, November 30th!\n\nJoin us and become part of the Goblin Hoard at Orlando's first-ever Discount Art Mart. Let's make holiday shopping fun\, affordable\, and unforgettable.
X-ALT-DESC;FMTTYPE=text/html:<div>\n<p><strong>Discover Orlando&rsquo\;s First and Only Discount Art Mart: Gob Mart!</strong></p>\n\n<p>Black Friday is old news. This year\, it&rsquo\;s all about <strong>Small Biz SaturGOB!</strong> On <strong>Saturday\, November 30th\, from 1-6 PM</strong> at Oviedo Mall\, experience an extraordinary celebration of creativity\, community\, and unbeatable deals.</p>\n\n<p>With over <strong>150 local vendors</strong>\, you&rsquo\;ll find:<br />\nUnique art pieces<br />\nVintage treasures<br />\nDelicious food options<br />\nCollectibles and so much more&mdash\;all at the <strong>lowest prices of the year!</strong></p>\n\n<p>Whether you&rsquo\;re hunting for exclusive\, high-quality items or browsing clearance sections\, Gob Mart offers something for every style and budget.</p>\n\n<h3>Why Gob Mart?</h3>\n\n<ul>\n	<li><strong>Affordable Artisan Goods:</strong> Think artisan quality without the artisan price. Vendors are offering misprints\, deadstock\, and B-grade items alongside premium originals&mdash\;perfect for every price point.</li>\n	<li><strong>Support Local Talent:</strong> This is your chance to shop small\, support local artists\, and discover one-of-a-kind finds.</li>\n	<li><strong>Barter Like a Goblin:</strong> Bring your second-hand collectibles\, clothes\, toys\, manga\, plushies\, or art and trade them! Can&rsquo\;t find a vendor to swap with? Head to the <strong>Trading Tent</strong>\, where treasures await and money isn&rsquo\;t necessary.</li>\n</ul>\n\n<h3>Skip the Stress\, Find the Joy</h3>\n\n<p>Say goodbye to long lines and holiday shopping headaches. Gob Mart is where the spirit of community meets the thrill of discovery.</p>\n\n<p>Check every name off your gift list and enjoy a shopping experience unlike any other at <strong>Small Biz SaturGOB\, November 30th!</strong></p>\n\n<p>Join us and become part of the Goblin Hoard at Orlando&rsquo\;s first-ever <strong>Discount Art Mart</strong>. Let&rsquo\;s make holiday shopping fun\, affordable\, and unforgettable.</p>\n</div>\n
LOCATION:1700 Oviedo Mall Blvd\, Oviedo\, FL 32765
UID:e.1204.44677
SEQUENCE:3
DTSTAMP:20260421T010148Z
URL:https://business.owsrcc.org/events/details/goblin-market-small-business-saturday-edition-44677
END:VEVENT

END:VCALENDAR
