BEGIN:VCALENDAR
VERSION:2.0
PRODID:-//ChamberMaster//Event Calendar 2.0//EN
METHOD:PUBLISH
X-PUBLISHED-TTL:P3D
REFRESH-INTERVAL:P3D
CALSCALE:GREGORIAN
BEGIN:VEVENT
DTSTART:20240215T220000Z
DTEND:20240216T000000Z
X-MICROSOFT-CDO-ALLDAYEVENT:FALSE
SUMMARY:Get Ready for Purse Wars
DESCRIPTION:Join us for a fun evening and maybe win a new designer handbag! Mix and mingle with colleagues as you purchase tickets from our sponsors for a chance to win a beautiful brand-name purse\, with all proceeds going to our Watermark for Kids foundation. Feast on light hors d'oeuvres and sip on cocktails while giving to a good cause. Members of our team will be available for any questions you may have about The Watermark at Vistawilla\, where many exciting events like this one take place in our vibrant community   and just one way we're redefining senior living. We can't wait to see you! There is also an entry fee of $15 before the event or $20 at the door.
X-ALT-DESC;FMTTYPE=text/html:Join us for a fun evening and maybe win a new designer handbag! Mix and mingle with colleagues as you purchase tickets from our sponsors for a chance to win a beautiful brand-name purse\, with<span style="background-color:#FFFF00"> all proceeds going to our Watermark</span> <span style="background-color:#FFFF00">for Kids foundation.</span> Feast on light hors d&rsquo\;oeuvres and sip on cocktails while giving to a good cause. Members of our team will be available for any questions you may have about The Watermark at Vistawilla\, where many exciting events like this one take place in our vibrant community &ndash\; and just one way we&rsquo\;re redefining senior living. We can&rsquo\;t wait to see you! <span style="background-color:#FFFF00">There is also an entry fee of $15 before the event or $20 at the door.</span>
LOCATION:The Watermark At Vistawilla Retirement Community 1519 East State Road 434 Winter Springs FL 32708
UID:e.1204.44063
SEQUENCE:3
DTSTAMP:20260421T112604Z
URL:https://business.owsrcc.org/events/details/get-ready-for-purse-wars-44063
END:VEVENT

END:VCALENDAR
