BEGIN:VCALENDAR
VERSION:2.0
PRODID:-//ChamberMaster//Event Calendar 2.0//EN
METHOD:PUBLISH
X-PUBLISHED-TTL:P3D
REFRESH-INTERVAL:P3D
CALSCALE:GREGORIAN
BEGIN:VEVENT
DTSTART:20240420T150000Z
DTEND:20240420T170000Z
X-MICROSOFT-CDO-ALLDAYEVENT:FALSE
SUMMARY:Free Financial Literacy and Business Seminar
DESCRIPTION:Embrace the power of financial literacy this National Financial Literacy Month!\n\n\n\nUnderstanding personal finance concepts and strategies isn't just beneficial\; it's essential for navigating life's financial journey. Whether you're a young adult starting out\, a middle-aged individual planning for the future\, or someone transitioning into entrepreneurship\, knowledge is key!\n\n\n\nLet's empower ourselves with financial education to make informed decisions and secure our financial futures.
X-ALT-DESC;FMTTYPE=text/html:<p><span style="font-family:-apple-system\,blinkmacsystemfont\,segoe ui\,roboto\,helvetica\,arial\,sans-serif\; font-size:14px">Embrace the power of financial literacy this National Financial Literacy Month!</span><br />\n<br />\n<span style="font-family:-apple-system\,blinkmacsystemfont\,segoe ui\,roboto\,helvetica\,arial\,sans-serif\; font-size:14px">Understanding personal finance concepts and strategies isn&#39\;t just beneficial\; it&#39\;s essential for navigating life&#39\;s financial journey. Whether you&#39\;re a young adult starting out\, a middle-aged individual planning for the future\, or someone transitioning into entrepreneurship\, knowledge is key!</span><br />\n<br />\n<span style="font-family:-apple-system\,blinkmacsystemfont\,segoe ui\,roboto\,helvetica\,arial\,sans-serif\; font-size:14px">Let&#39\;s empower ourselves with financial education to make informed decisions and secure our financial futures.</span></p>\n
LOCATION:Goldenrod Recreation Center - Champions Rooms A 4863 North Goldenrod Rd\, Winter Park\, FL 32792
UID:e.1204.44141
SEQUENCE:3
DTSTAMP:20260421T125501Z
URL:https://business.owsrcc.org/events/details/free-financial-literacy-and-business-seminar-44141
END:VEVENT

END:VCALENDAR
