BEGIN:VCALENDAR
VERSION:2.0
PRODID:-//ChamberMaster//Event Calendar 2.0//EN
METHOD:PUBLISH
X-PUBLISHED-TTL:P3D
REFRESH-INTERVAL:P3D
CALSCALE:GREGORIAN
BEGIN:VEVENT
DTSTART:20240120T150000Z
DTEND:20240120T190000Z
X-MICROSOFT-CDO-ALLDAYEVENT:FALSE
SUMMARY:Free E-Waste Recycling for Businesses and Consumers
DESCRIPTION:Approved Disposal Hardware\n\n  Desktops/Laptops/Server\n\n  USB and External Drives\n\n  LCD Monitors/Flat Screen TV's\n\n  Video/Audio Equipment\n\n  Smart Phones/iPhones/Tablets\n\n  Cameras/Gaming Systems\n\n  Network Switches\n\n  Office Phones/Computer Parts\n\n  Test/Lab/Medical Equipment\n\n  UPS Batteries/Wires & Cables\n\n  Printers/Copiers\n\n  On-Site Hard Drive\n\nDestruction!\n\n  CRT and tube style TV's are\n\nNOT accepted
X-ALT-DESC;FMTTYPE=text/html:<br />\nApproved Disposal Hardware<br />\n&bull\; Desktops/Laptops/Server<br />\n&bull\; USB and External Drives<br />\n&bull\; LCD Monitors/Flat Screen TV&#39\;s<br />\n&bull\; Video/Audio Equipment<br />\n&bull\; Smart Phones/iPhones/Tablets<br />\n&bull\; Cameras/Gaming Systems<br />\n&bull\; Network Switches<br />\n&bull\; Office Phones/Computer Parts<br />\n&bull\; Test/Lab/Medical Equipment<br />\n&bull\; UPS Batteries/Wires &amp\; Cables<br />\n&bull\; Printers/Copiers<br />\n&bull\; On-Site Hard Drive<br />\nDestruction!<br />\n&bull\; CRT and tube style TV&#39\;s are<br />\nNOT accepted
LOCATION:2572 W. SR 426 Oviedo\, FL\, 32765
UID:e.1204.43654
SEQUENCE:3
DTSTAMP:20260421T125252Z
URL:https://business.owsrcc.org/events/details/free-e-waste-recycling-for-businesses-and-consumers-43654
END:VEVENT

END:VCALENDAR
