BEGIN:VCALENDAR
VERSION:2.0
PRODID:-//ChamberMaster//Event Calendar 2.0//EN
METHOD:PUBLISH
X-PUBLISHED-TTL:P3D
REFRESH-INTERVAL:P3D
CALSCALE:GREGORIAN
BEGIN:VEVENT
DTSTART:20230817T210000Z
DTEND:20230818T000000Z
X-MICROSOFT-CDO-ALLDAYEVENT:FALSE
SUMMARY:Food Truck Thursday
DESCRIPTION:Join the City of Winter Springs for an evening filled with delicious food from local food trucks. Bring your own chairs or blanket for a picnic in the park!\n\nAs parking is limited\, please consider walking or riding your bike to the event if you live in the event area!
X-ALT-DESC;FMTTYPE=text/html:<span style="font-size:14px"><span style="font-family:arial\,helvetica\,sans-serif">Join the City of Winter Springs for an evening filled with delicious food from local food trucks. Bring your own chairs or blanket for a picnic in the park!<br />\nAs parking is limited\, please consider walking or riding your bike to the event if you live in the event&nbsp\;area!</span></span>
LOCATION:Torcaso Park ( 104 N. Moss Rd.\, Winter Springs\, FL 32708)
UID:e.1204.42670
SEQUENCE:3
DTSTAMP:20260421T163149Z
URL:https://business.owsrcc.org/events/details/food-truck-thursday-08-17-2023-42670
END:VEVENT

END:VCALENDAR
