BEGIN:VCALENDAR
VERSION:2.0
PRODID:-//ChamberMaster//Event Calendar 2.0//EN
METHOD:PUBLISH
X-PUBLISHED-TTL:P3D
REFRESH-INTERVAL:P3D
CALSCALE:GREGORIAN
BEGIN:VEVENT
DTSTART:20240428T141500Z
DTEND:20240428T153000Z
X-MICROSOFT-CDO-ALLDAYEVENT:FALSE
SUMMARY:Fitness at The Factory
DESCRIPTION:Join us for Fitness at The Factory!\n\nThis event takes place every Sunday morning before The Food Factory opens.\n\n\n\nClasses run from 10:30-11:30 AM\, please arrive by 10:15 AM.\n\nEvery week is a new and invigorating experience to start your Sunday morning with!\n\n\n\nSome of the Pop-Ups we have planned:\n\nPure Barre\, Club Pilates\, Hardcore Fitness\, Basecamp Fitness\, Orangetheory\, Yoga\, Taekwondo\, etc.\n\n\n\nStay after class for Sunday Funday at The Factory:\n\nBrunch food at The Local Hen\n\nBloody Mary Bar\, Mimosas\, Football & BOGO Craft Beer Pitchers at The Factory Bar\n\nThe Factory Bar and micro-restaurants all open at 11:30 AM (right when you finish class ??.)
X-ALT-DESC;FMTTYPE=text/html:Join us for Fitness at The Factory!<br />\nThis event takes place every Sunday morning before The Food Factory opens.<br />\n<br />\nClasses run from 10:30-11:30 AM\, please arrive by 10:15 AM.<br />\nEvery week is a new and invigorating experience to start your Sunday morning with!<br />\n<br />\nSome of the Pop-Ups we have planned:<br />\nPure Barre\, Club Pilates\, Hardcore Fitness\, Basecamp Fitness\, Orangetheory\, Yoga\, Taekwondo\, etc.<br />\n<br />\nStay after class for Sunday Funday at The Factory:<br />\nBrunch food at The Local Hen<br />\nBloody Mary Bar\, Mimosas\, Football &amp\; BOGO Craft Beer Pitchers at The Factory Bar<br />\nThe Factory Bar and micro-restaurants all open at 11:30 AM (right when you finish class ??.)
LOCATION:
UID:e.1204.43450
SEQUENCE:3
DTSTAMP:20260421T113314Z
URL:https://business.owsrcc.org/events/details/fitness-at-the-factory-04-28-2024-43450
END:VEVENT

END:VCALENDAR
