BEGIN:VCALENDAR
VERSION:2.0
PRODID:-//ChamberMaster//Event Calendar 2.0//EN
METHOD:PUBLISH
X-PUBLISHED-TTL:P3D
REFRESH-INTERVAL:P3D
CALSCALE:GREGORIAN
BEGIN:VEVENT
DTSTART:20250118T170000Z
DTEND:20250118T190000Z
X-MICROSOFT-CDO-ALLDAYEVENT:FALSE
SUMMARY:First Down Financial Inc's Neighborhood Grill Out
DESCRIPTION:We're firing up the grills and bringing the neighborhood together for a day of food\, fun and celebration! Join us for an afternoon of good vibes and great company it's our way of saying thank you to the amazing community we're proud to be a part of.
X-ALT-DESC;FMTTYPE=text/html:We&rsquo\;re firing up the grills and bringing the neighborhood together for a day of food\, fun and celebration! Join us for an afternoon of good vibes and great company&mdash\;it&rsquo\;s our way of saying thank you to the amazing community we&rsquo\;re proud to be a part of.&nbsp\;
LOCATION:1942 W CR 419 Suite 1030 Oviedo FL 32766. Event will be in the parking lot.
UID:e.1204.45108
SEQUENCE:3
DTSTAMP:20260421T044231Z
URL:https://business.owsrcc.org/events/details/first-down-financial-inc-s-neighborhood-grill-out-45108
END:VEVENT

END:VCALENDAR
