BEGIN:VCALENDAR
VERSION:2.0
PRODID:-//ChamberMaster//Event Calendar 2.0//EN
METHOD:PUBLISH
X-PUBLISHED-TTL:P3D
REFRESH-INTERVAL:P3D
CALSCALE:GREGORIAN
BEGIN:VEVENT
DTSTART:20240209T220000Z
DTEND:20240210T030000Z
X-MICROSOFT-CDO-ALLDAYEVENT:FALSE
SUMMARY:Fat Sally Heroes Bay Ridge Food Truck
DESCRIPTION:Experience delicious Fat Sally specialties at the Oviedo Brewing Night Market!
X-ALT-DESC;FMTTYPE=text/html:Experience delicious Fat Sally specialties at the Oviedo Brewing Night Market!
LOCATION:Oviedo Mall
UID:e.1204.44074
SEQUENCE:3
DTSTAMP:20260421T125622Z
URL:https://business.owsrcc.org/events/details/fat-sally-heroes-bay-ridge-food-truck-44074
END:VEVENT

END:VCALENDAR
