BEGIN:VCALENDAR
VERSION:2.0
PRODID:-//ChamberMaster//Event Calendar 2.0//EN
METHOD:PUBLISH
X-PUBLISHED-TTL:P3D
REFRESH-INTERVAL:P3D
CALSCALE:GREGORIAN
BEGIN:VEVENT
DTSTART:20240819T170000Z
DTEND:20240819T180000Z
X-MICROSOFT-CDO-ALLDAYEVENT:FALSE
SUMMARY:Fall Prevention Workshop
DESCRIPTION:We will discuss myths around balance and falling. Our aim is that you leave feeling more empowered about your body and your balance!\n\nYou will also leave with tools to help better understand your fall risk factors and decrease your fall risk.\n\nWorkshop Highlights:\n\n\n	??What are fall risk factors?\n	??Keeping a fall log\n	??Which falls are preventable and which are not?
X-ALT-DESC;FMTTYPE=text/html:<p>We will discuss myths around balance and falling. Our aim is that you leave feeling more empowered about your body and your balance!</p>\n\n<p>You will also leave with tools to help better understand your fall risk factors and decrease your fall risk.</p>\n\n<p>Workshop Highlights:</p>\n\n<ul style="list-style-type:circle">\n	<li>??What are fall risk factors?</li>\n	<li>??Keeping a fall log</li>\n	<li>??Which falls are preventable and which are not?</li>\n</ul>\n
LOCATION:Maitland Public Library 501 Maitland Ave S
UID:e.1204.44601
SEQUENCE:3
DTSTAMP:20260421T025221Z
URL:https://business.owsrcc.org/events/details/fall-prevention-workshop-44601
END:VEVENT

END:VCALENDAR
