BEGIN:VCALENDAR
VERSION:2.0
PRODID:-//ChamberMaster//Event Calendar 2.0//EN
METHOD:PUBLISH
X-PUBLISHED-TTL:P3D
REFRESH-INTERVAL:P3D
CALSCALE:GREGORIAN
BEGIN:VEVENT
DTSTART:20240914T150000Z
DTEND:20240914T220000Z
X-MICROSOFT-CDO-ALLDAYEVENT:FALSE
SUMMARY:Enchanted Knights Renaissance Faire
DESCRIPTION:Hark\, fair citizens! Prepare to be whisked away to a realm of wonder and excitement at Oviedo Mall's Enchanted Knights Renaissance Faire!\n\nOn Saturday\, September 14th\, from 11 AM to 6 PM\, the Oviedo Mall will be transformed into a majestic medieval kingdom\, brimming with enchantment and adventure. This is an event you shan't want to miss!\n\nBest of all\, admission and parking are absolutely free! So gather your friends and family\, don your finest medieval attire\, and join us for a day filled with enchantment\, joy\, and timeless fun at "Oviedo Mall's Enchanted Knights Renaissance Faire"!\n\nWe can't wait to see you there for a day of unforgettable adventure and merriment!
X-ALT-DESC;FMTTYPE=text/html:<p>Hark\, fair citizens! Prepare to be whisked away to a realm of wonder and excitement at Oviedo Mall&#39\;s Enchanted Knights Renaissance Faire!</p>\n\n<p>On Saturday\, September 14th\, from 11 AM to 6 PM\, the Oviedo Mall will be transformed into a majestic medieval kingdom\, brimming with enchantment and adventure. This is an event you shan&#39\;t want to miss!</p>\n\n<p>Best of all\, admission and parking are absolutely free! So gather your friends and family\, don your finest medieval attire\, and join us for a day filled with enchantment\, joy\, and timeless fun at &quot\;Oviedo Mall&#39\;s Enchanted Knights Renaissance Faire&quot\;!</p>\n\n<p>We can&#39\;t wait to see you there for a day of unforgettable adventure and merriment!</p>\n
LOCATION:Oviedo Mall | 1700 Oviedo Mall Blvd\, Oviedo\, FL 32765
UID:e.1204.44589
SEQUENCE:3
DTSTAMP:20260420T231544Z
URL:https://business.owsrcc.org/events/details/enchanted-knights-renaissance-faire-44589
END:VEVENT

END:VCALENDAR
