BEGIN:VCALENDAR
VERSION:2.0
PRODID:-//ChamberMaster//Event Calendar 2.0//EN
METHOD:PUBLISH
X-PUBLISHED-TTL:P3D
REFRESH-INTERVAL:P3D
CALSCALE:GREGORIAN
BEGIN:VEVENT
DTSTART;VALUE=DATE:20231107
DTEND;VALUE=DATE:20231108
TRANSP:TRANSPARENT
X-MICROSOFT-CDO-ALLDAYEVENT:TRUE
SUMMARY:Election Day
DESCRIPTION:CA5 is cancelled this month due to it being Election Day. Don't forget to vote!
X-ALT-DESC;FMTTYPE=text/html:<span style="color:#000000\;"><span style="font-size:14px\;">CA5 is cancelled this month due to it being Election Day. Don&#39\;t forget to vote!</span></span>
LOCATION:
UID:e.1204.41513
SEQUENCE:3
DTSTAMP:20260421T220424Z
URL:https://business.owsrcc.org/events/details/election-day-41513
END:VEVENT

END:VCALENDAR
