BEGIN:VCALENDAR
VERSION:2.0
PRODID:-//ChamberMaster//Event Calendar 2.0//EN
METHOD:PUBLISH
X-PUBLISHED-TTL:P3D
REFRESH-INTERVAL:P3D
CALSCALE:GREGORIAN
BEGIN:VEVENT
DTSTART:20240330T150000Z
DTEND:20240330T180000Z
X-MICROSOFT-CDO-ALLDAYEVENT:FALSE
SUMMARY:Eggstravaganza at CrossLife Church
DESCRIPTION:CrossLife is egg-static to be hosting our annual Eggstravaganza. This free event is always a great way to kick off the Easter weekend with endless fun for the whole family. Eggstravganza is a safe and engaging event for the community around us! There will be carnival games\, snow-cones\, Easter Egg Hunts\, Resurrection Eggs & More!
X-ALT-DESC;FMTTYPE=text/html:CrossLife is egg-static to be hosting our annual Eggstravaganza. This <u><strong>free</strong></u> event is always a great way to kick off the Easter weekend with endless fun for the whole family. Eggstravganza is a safe and engaging event for the community around us! There will be carnival games\, snow-cones\, Easter Egg Hunts\, Resurrection Eggs &amp\; More!
LOCATION:CrossLife Church 45 W. Broadway St. Oviedo\, FL 32765
UID:e.1204.44078
SEQUENCE:3
DTSTAMP:20260421T095401Z
URL:https://business.owsrcc.org/events/details/eggstravaganza-at-crosslife-church-44078
END:VEVENT

END:VCALENDAR
