BEGIN:VCALENDAR
VERSION:2.0
PRODID:-//ChamberMaster//Event Calendar 2.0//EN
METHOD:PUBLISH
X-PUBLISHED-TTL:P3D
REFRESH-INTERVAL:P3D
CALSCALE:GREGORIAN
BEGIN:VEVENT
DTSTART:20240323T130000Z
DTEND:20240323T160000Z
X-MICROSOFT-CDO-ALLDAYEVENT:FALSE
SUMMARY:Egg-Ceptional Family Festival
DESCRIPTION:Join us for the Egg-Ceptional Family Festival\, our Easter themed festival in Center Lake Park! Welcome back to old school family fun at this Easter themed event at Center Lake Park. Start practicing your Three-legged racing\, Potato sack jumping race and Egg & Spoon balancing because this year will be full of kid-friendly games and competitions! Along with the games\, we will have activity tables including a coloring station\, pictures with The Easter Bunny and egg decorating (first 100\, must preregister on Eventbrite.) Plus your favorite Food Trucks and Vendors will be here all morning. The $10 ticket/wristband is for kids only\, ages 2-10. (Adults do not need to purchase) IF YOU CAN GO ON OR IN SOMETHING\, OR DO AN ACTIVITY\, YOU NEED A WRISTBAND Tickets will include all of our fun activities! Bounce Houses Egg Decorating presented by A Budget Tree Service (First 100 signups on Eventbrite) Photos with the Easter Bunny Face Painting presented by Creative World School Coloring Stations Diana Sacoto & Scott Garrison Real Estate\, ReMax Realtor Activity Tables at various vendor booths Egg & Spoon Race Three Legged Race Potato Sack Race A huge thank you to our Title sponsors A Budget Tree Service and Waste Pro\, Scott Garrison and Diana Sacoto Real Estate ReMax Realtors\, Oviedo Medical Center\, Creative World and The Strand Apartments for making this event Egg-ceptional! For more information on our other programs\, events\, amenities\, rentals\, at Center Lake Park. Visit the City website at cityofoviedo.net\, or call our event hotline at 407-971-5590. If you would like to sponsor any of our upcoming programs and events\, please contact Terri Martini at 407-971-5588.
X-ALT-DESC;FMTTYPE=text/html:Join us for the Egg-Ceptional Family Festival\, our Easter themed festival in Center Lake Park! Welcome back to old school family fun at this Easter themed event at Center Lake Park. Start practicing your Three-legged racing\, Potato sack jumping race and Egg &amp\; Spoon balancing because this year will be full of kid-friendly games and competitions! Along with the games\, we will have activity tables including a coloring station\, pictures with The Easter Bunny and egg decorating (first 100\, must preregister on Eventbrite.) Plus your favorite Food Trucks and Vendors will be here all morning. The $10 ticket/wristband is for kids only\, ages 2-10. (Adults do not need to purchase) IF YOU CAN GO ON OR IN SOMETHING\, OR DO AN ACTIVITY\, YOU NEED A WRISTBAND Tickets will include all of our fun activities! Bounce Houses Egg Decorating presented by A Budget Tree Service (First 100 signups on Eventbrite) Photos with the Easter Bunny Face Painting presented by Creative World School Coloring Stations Diana Sacoto &amp\; Scott Garrison Real Estate\, ReMax Realtor Activity Tables at various vendor booths Egg &amp\; Spoon Race Three Legged Race Potato Sack Race A huge thank you to our Title sponsors A Budget Tree Service and Waste Pro\, Scott Garrison and Diana Sacoto Real Estate ReMax Realtors\, Oviedo Medical Center\, Creative World and The Strand Apartments for making this event Egg-ceptional! For more information on our other programs\, events\, amenities\, rentals\, at Center Lake Park. Visit the City website at cityofoviedo.net\, or call our event hotline at 407-971-5590. If you would like to sponsor any of our upcoming programs and events\, please contact Terri Martini at 407-971-5588.
LOCATION:Center Lake Park: 299 Center Lake Lane Oviedo\, FL\, 32765
UID:e.1204.44088
SEQUENCE:3
DTSTAMP:20260421T111004Z
URL:https://business.owsrcc.org/events/details/egg-ceptional-family-festival-44088
END:VEVENT

END:VCALENDAR
