BEGIN:VCALENDAR
VERSION:2.0
PRODID:-//ChamberMaster//Event Calendar 2.0//EN
METHOD:PUBLISH
X-PUBLISHED-TTL:P3D
REFRESH-INTERVAL:P3D
CALSCALE:GREGORIAN
BEGIN:VEVENT
DTSTART:20240613T213000Z
DTEND:20240614T003000Z
X-MICROSOFT-CDO-ALLDAYEVENT:FALSE
SUMMARY:Edward Jones: Networking Social
DESCRIPTION:You and a guest are cordially invited to attend a client appreciation event hosted by Edward Jones. Hors d'oeuvres will be served\, and there will be drawings for door prizes. Please mark your calendar for our client appreciation event: Thursday\, June 13th\, 2024 5:30pm - 8:30pm Oviedo Amphitheatre & Cultural Center | 357 Center Lake Ln\, Oviedo\, FL 32765 Call 407-365-3246 Please save the date for this important event and watch for additional details\, which we will send in the upcoming weeks. Sincerely\, Geoffrey J Del Bene\, CFP \, AAMS \, ADPA  Financial Advisor
X-ALT-DESC;FMTTYPE=text/html:You and a guest are cordially invited to attend a client appreciation event hosted by Edward Jones. Hors d&#39\;oeuvres will be served\, and there will be drawings for door prizes. Please mark your calendar for our client appreciation event: Thursday\, June 13th\, 2024 5:30pm - 8:30pm Oviedo Amphitheatre &amp\; Cultural Center | 357 Center Lake Ln\, Oviedo\, FL 32765 Call 407-365-3246 Please save the date for this important event and watch for additional details\, which we will send in the upcoming weeks. Sincerely\, Geoffrey J Del Bene\, CFP&reg\;\, AAMS&trade\;\, ADPA&trade\; Financial Advisor
LOCATION:Oviedo Amphitheatre & Cultural Center | 357 Center Lake Ln\, Oviedo\, FL 32765
UID:e.1204.44150
SEQUENCE:3
DTSTAMP:20260421T043837Z
URL:https://business.owsrcc.org/events/details/edward-jones-networking-social-44150
END:VEVENT

END:VCALENDAR
