BEGIN:VCALENDAR
VERSION:2.0
PRODID:-//ChamberMaster//Event Calendar 2.0//EN
METHOD:PUBLISH
X-PUBLISHED-TTL:P3D
REFRESH-INTERVAL:P3D
CALSCALE:GREGORIAN
BEGIN:VEVENT
DTSTART:20231209T223000Z
DTEND:20231210T020000Z
X-MICROSOFT-CDO-ALLDAYEVENT:FALSE
SUMMARY:Edward Jones - Holiday Party
DESCRIPTION:We are hosting our annual holiday party and want you to be there! Please join us as we say thank you to our clients\, friends\, and community. We are happy to be a part of the Oviedo Winter-Springs community. Please mark your calendar for our upcoming open house. Refreshments and light snacks will be served.
X-ALT-DESC;FMTTYPE=text/html:We are hosting our annual holiday party and want you to be there! Please join us as we say thank you to our clients\, friends\, and community. We are happy to be a part of the Oviedo Winter-Springs community. Please mark your calendar for our upcoming open house. Refreshments and light snacks will be served.
LOCATION:UCF Football Stadium: 3MG Club 4465 Knights Victory Way Orlando\, FL 32816
UID:e.1204.42842
SEQUENCE:3
DTSTAMP:20260421T202801Z
URL:https://business.owsrcc.org/events/details/edward-jones-holiday-party-42842
END:VEVENT

END:VCALENDAR
