BEGIN:VCALENDAR
VERSION:2.0
PRODID:-//ChamberMaster//Event Calendar 2.0//EN
METHOD:PUBLISH
X-PUBLISHED-TTL:P3D
REFRESH-INTERVAL:P3D
CALSCALE:GREGORIAN
BEGIN:VEVENT
DTSTART:20240920T210000Z
DTEND:20240920T223000Z
X-MICROSOFT-CDO-ALLDAYEVENT:FALSE
SUMMARY:Early Learning Parent Workshop
DESCRIPTION:Join us for a hands-on workshop taught by Harvard University Professors where parents can learn how to support maker-centered learning.
X-ALT-DESC;FMTTYPE=text/html:Join us for a hands-on workshop taught by Harvard University Professors where parents can learn how to support maker-centered learning.
LOCATION:Young Innovators Academy Oviedo
UID:e.1204.44620
SEQUENCE:3
DTSTAMP:20260420T231058Z
URL:https://business.owsrcc.org/events/details/early-learning-parent-workshop-44620
END:VEVENT

END:VCALENDAR
