BEGIN:VCALENDAR
VERSION:2.0
PRODID:-//ChamberMaster//Event Calendar 2.0//EN
METHOD:PUBLISH
X-PUBLISHED-TTL:P3D
REFRESH-INTERVAL:P3D
CALSCALE:GREGORIAN
BEGIN:VEVENT
DTSTART:20240424T213000Z
DTEND:20240424T230000Z
X-MICROSOFT-CDO-ALLDAYEVENT:FALSE
SUMMARY:District Eat & Play Fifth Anniversary Party
DESCRIPTION:Join us at District Eat & Play as we celebrate their fifth year of ownership!
X-ALT-DESC;FMTTYPE=text/html:Join us at District Eat &amp\; Play as we celebrate their fifth year of ownership!
LOCATION:District Eat & Play Oviedo Mall
UID:e.1204.44098
SEQUENCE:3
DTSTAMP:20260421T095403Z
URL:https://business.owsrcc.org/events/details/district-eat-play-fifth-anniversary-party-44098
END:VEVENT

END:VCALENDAR
