BEGIN:VCALENDAR
VERSION:2.0
PRODID:-//ChamberMaster//Event Calendar 2.0//EN
METHOD:PUBLISH
X-PUBLISHED-TTL:P3D
REFRESH-INTERVAL:P3D
CALSCALE:GREGORIAN
BEGIN:VEVENT
DTSTART:20240203T230000Z
DTEND:20240204T020000Z
X-MICROSOFT-CDO-ALLDAYEVENT:FALSE
SUMMARY:Denim & Diamonds
DESCRIPTION:Join us for a fun-filled casino night!\n\n\n\nGaming tables\n\nLive Music\n\nSilent & Live Auctions\n\nDinner & Open Bar\n\n\n\n$125 per person\, $1500 Table for Ten\n\n\n\nEvent Chair:  Denise McKinley\n\n\n\nContact: Denisesellsorlando@gmail.com or 407-625-0635\n\n\n\nSponsorships also available
X-ALT-DESC;FMTTYPE=text/html:Join us for a fun-filled casino night!<br />\n<br />\nGaming tables<br />\nLive Music<br />\nSilent &amp\; Live Auctions<br />\nDinner &amp\; Open Bar<br />\n<br />\n$125 per person\, $1500 Table for Ten<br />\n<br />\nEvent Chair:&nbsp\; Denise McKinley<br />\n<br />\nContact: Denisesellsorlando@gmail.com or 407-625-0635<br />\n<br />\nSponsorships also available
LOCATION:Tuscawilla Country Club 1500 Winter Springs Blvd.\, Winter Springs
UID:e.1204.44058
SEQUENCE:3
DTSTAMP:20260421T110619Z
URL:https://business.owsrcc.org/events/details/denim-diamonds-44058
END:VEVENT

END:VCALENDAR
