BEGIN:VCALENDAR
VERSION:2.0
PRODID:-//ChamberMaster//Event Calendar 2.0//EN
METHOD:PUBLISH
X-PUBLISHED-TTL:P3D
REFRESH-INTERVAL:P3D
CALSCALE:GREGORIAN
BEGIN:VEVENT
DTSTART:20231029T213000Z
DTEND:20231029T233000Z
X-MICROSOFT-CDO-ALLDAYEVENT:FALSE
SUMMARY:CrossLife Church Trunk or Treat
DESCRIPTION:Whether you want to decorate your vehicles trunk and pass out goodies to the kids\, or want to show off your culinary skills and SCARE off the competition with your best Chili recipe\, CrossLife is the place for you! Gather your small group\, family\, friends\, and neighbors for a night made for the WHOLE family!\n\nSpace is LIMITED!\n\nTrunk themes have to be submitted and has to be toddler friendly ??\n\nThere are many ways to be involved.  You can decorate your trunk\, participate in the chili cook-off\, help with registration\, & more!
X-ALT-DESC;FMTTYPE=text/html:<p>Whether you want to decorate your vehicles trunk and pass out goodies to the kids\, or want to show off your culinary skills and SCARE off the competition with your best Chili recipe\, CrossLife is the place for you! Gather your small group\, family\, friends\, and neighbors for a night made for the WHOLE family!<br />\nSpace is LIMITED!</p>\n\n<p>Trunk themes have to be submitted and has to be toddler friendly ??</p>\n\n<p>There are many ways to be involved.&nbsp\; You can decorate your trunk\, participate in the chili cook-off\, help with registration\, &amp\; more!</p>\n
LOCATION:CrossLife Church 45 W. Broadway Street Oviedo\, FL 32765
UID:e.1204.42829
SEQUENCE:3
DTSTAMP:20260422T000135Z
URL:https://business.owsrcc.org/events/details/crosslife-church-trunk-or-treat-42829
END:VEVENT

END:VCALENDAR
