BEGIN:VCALENDAR
VERSION:2.0
PRODID:-//ChamberMaster//Event Calendar 2.0//EN
METHOD:PUBLISH
X-PUBLISHED-TTL:P3D
REFRESH-INTERVAL:P3D
CALSCALE:GREGORIAN
BEGIN:VEVENT
DTSTART:20250207T130000Z
DTEND:20250207T150000Z
X-MICROSOFT-CDO-ALLDAYEVENT:FALSE
SUMMARY:Coffee with a Cop
DESCRIPTION:We are inviting the public to come out to our Coffee with A Cop event on Friday\, February 7\, 2025\, at Maple Street Biscuit Co. on City Walk Lane. Come in\, grab a free cup of coffee and meet our officers for friendly conversation. We look forward to meeting everyone and having some great discussions!
X-ALT-DESC;FMTTYPE=text/html:<span style="color:rgb(8\, 8\, 9)\; font-family:segoe ui historic\,segoe ui\,helvetica\,arial\,sans-serif\; font-size:15px">We are inviting the public to come out to our Coffee with A Cop event on Friday\, February 7\, 2025\, at Maple Street Biscuit Co. on City Walk Lane. Come in\, grab a free cup of coffee and meet our officers for friendly conversation. We look forward to meeting everyone and having some great discussions!</span><span style="color:rgb(8\, 8\, 9)\; font-family:segoe ui historic\,segoe ui\,helvetica\,arial\,sans-serif\; font-size:15px">&nbsp\;</span>
LOCATION:Maple Street Biscuit Company\, 978 City Walk Lane\, Oviedo FL 32765
UID:e.1204.45117
SEQUENCE:3
DTSTAMP:20260421T043719Z
URL:https://business.owsrcc.org/events/details/coffee-with-a-cop-45117
END:VEVENT

END:VCALENDAR
