BEGIN:VCALENDAR
VERSION:2.0
PRODID:-//ChamberMaster//Event Calendar 2.0//EN
METHOD:PUBLISH
X-PUBLISHED-TTL:P3D
REFRESH-INTERVAL:P3D
CALSCALE:GREGORIAN
BEGIN:VEVENT
DTSTART:20240725T130000Z
DTEND:20240725T140000Z
X-MICROSOFT-CDO-ALLDAYEVENT:FALSE
SUMMARY:Coffee Hour - Hawaii Fluid Art
DESCRIPTION:Join us at Hawaii Fluid Art in the Winter Springs Town Center for our monthly Coffee Hour!
X-ALT-DESC;FMTTYPE=text/html:Join us at Hawaii Fluid Art in the Winter Springs Town Center for our monthly Coffee Hour!&nbsp\;
LOCATION:1192 E. State Rd. 434 Winter Springs
UID:e.1204.44128
SEQUENCE:3
DTSTAMP:20260421T025401Z
URL:https://business.owsrcc.org/events/details/coffee-hour-hawaii-fluid-art-44128
END:VEVENT

END:VCALENDAR
