BEGIN:VCALENDAR
VERSION:2.0
PRODID:-//ChamberMaster//Event Calendar 2.0//EN
METHOD:PUBLISH
X-PUBLISHED-TTL:P3D
REFRESH-INTERVAL:P3D
CALSCALE:GREGORIAN
BEGIN:VEVENT
DTSTART:20240613T130000Z
DTEND:20240613T140000Z
X-MICROSOFT-CDO-ALLDAYEVENT:FALSE
SUMMARY:Coffee Hour- D'Amico's Italian Market & Bakery
DESCRIPTION:Coffee on the patio at D'Amico's!  Join us at 9am for our member Coffee Hour & celebrate Kenna with a send off!
X-ALT-DESC;FMTTYPE=text/html:Coffee on the patio at D&#39\;Amico&#39\;s!&nbsp\; Join us at 9am for our member Coffee Hour &amp\; celebrate Kenna with a send off!
LOCATION:Oviedo Mall
UID:e.1204.44100
SEQUENCE:3
DTSTAMP:20260421T044216Z
URL:https://business.owsrcc.org/events/details/coffee-hour-d-amico-s-italian-market-bakery-44100
END:VEVENT

END:VCALENDAR
