BEGIN:VCALENDAR
VERSION:2.0
PRODID:-//ChamberMaster//Event Calendar 2.0//EN
METHOD:PUBLISH
X-PUBLISHED-TTL:P3D
REFRESH-INTERVAL:P3D
CALSCALE:GREGORIAN
BEGIN:VEVENT
DTSTART:20240502T130000Z
DTEND:20240503T020000Z
X-MICROSOFT-CDO-ALLDAYEVENT:FALSE
SUMMARY:Coffee Hour at Our Suite Village
DESCRIPTION:Our Member Coffee Hour for May is at Our Suite Village!  Come meet owner Tammy Bishop and tour her unique coworking space!  Our Suite Village is the perfect solution for accommodating your meetings and appointments with flexible availability.
X-ALT-DESC;FMTTYPE=text/html:Our Member Coffee Hour for May is at Our Suite Village!&nbsp\; Come meet owner Tammy Bishop and tour her unique coworking space!&nbsp\; Our Suite Village is the perfect solution for accommodating your meetings and appointments with flexible availability.
LOCATION:1750 W. Broadway St. Suite 112 Oviedo FL 32765
UID:e.1204.44091
SEQUENCE:3
DTSTAMP:20260421T110935Z
URL:https://business.owsrcc.org/events/details/coffee-hour-at-our-suite-village-44091
END:VEVENT

END:VCALENDAR
