BEGIN:VCALENDAR
VERSION:2.0
PRODID:-//ChamberMaster//Event Calendar 2.0//EN
METHOD:PUBLISH
X-PUBLISHED-TTL:P3D
REFRESH-INTERVAL:P3D
CALSCALE:GREGORIAN
BEGIN:VEVENT
DTSTART:20240321T130000Z
DTEND:20240321T140000Z
X-MICROSOFT-CDO-ALLDAYEVENT:FALSE
SUMMARY:Coffee Hour
DESCRIPTION:One of our Chamber's best networking opportunities - come meet the Chamber Staff!
X-ALT-DESC;FMTTYPE=text/html:One of our Chamber&#39\;s best networking opportunities - come meet the Chamber Staff!
LOCATION:Smooth-E's 160 Tuskawilla Rd STE 1207\, Winter Springs\, FL 32708
UID:e.1204.43218
SEQUENCE:3
DTSTAMP:20260421T110529Z
URL:https://business.owsrcc.org/events/details/coffee-hour-43218
END:VEVENT

END:VCALENDAR
