BEGIN:VCALENDAR
VERSION:2.0
PRODID:-//ChamberMaster//Event Calendar 2.0//EN
METHOD:PUBLISH
X-PUBLISHED-TTL:P3D
REFRESH-INTERVAL:P3D
CALSCALE:GREGORIAN
BEGIN:VEVENT
DTSTART:20240302T003000Z
DTEND:20240302T023000Z
X-MICROSOFT-CDO-ALLDAYEVENT:FALSE
SUMMARY:City Of Winter Springs | Movie In The Park
DESCRIPTION:Bring a lawn chair or picnic blanket and enjoy a family movie in the park!\n\nEnjoy tasty food and dessert options from local food trucks. Admission is FREE!\n\nMovie:  The Super Mario Bros. Movie (2023) Rated PG
X-ALT-DESC;FMTTYPE=text/html:<p>Bring a lawn chair or picnic blanket and enjoy a family movie in the park!</p>\n\n<p>Enjoy tasty food and dessert options from local food trucks. Admission is FREE!</p>\n\n<p><strong>Movie:&nbsp\;</strong>&nbsp\;The Super Mario Bros. Movie (2023) Rated PG</p>\n
LOCATION:Torcaso Park 104 North Moss Road Winter Springs\, FL 32708
UID:e.1204.44055
SEQUENCE:3
DTSTAMP:20260421T100243Z
URL:https://business.owsrcc.org/events/details/city-of-winter-springs-movie-in-the-park-44055
END:VEVENT

END:VCALENDAR
