BEGIN:VCALENDAR
VERSION:2.0
PRODID:-//ChamberMaster//Event Calendar 2.0//EN
METHOD:PUBLISH
X-PUBLISHED-TTL:P3D
REFRESH-INTERVAL:P3D
CALSCALE:GREGORIAN
BEGIN:VEVENT
DTSTART:20230911T120000Z
DTEND:20230911T130000Z
X-MICROSOFT-CDO-ALLDAYEVENT:FALSE
SUMMARY:City Of Winter Springs | 9/11 Memorial Ceremony
DESCRIPTION:The City of Winter Springs to host 22-year Remembrance of  9/11 events\n\nThe 22nd-anniversary commemoration ceremony will take place in front of the Winter Springs Police Department on Monday\, September 11\, 2023. Join your Winter Springs City Commission\, police department\, and community from 8-9 AM for a memorial service that pays tribute to the victims and honors the survivors of the September 11\, 2001 terror attacks. Our program will begin at 8 AM\, and a moment of silence will be observed at 8:46 AM.
X-ALT-DESC;FMTTYPE=text/html:<p style="text-align:center"><strong><span style="font-size:14px"><span style="font-family:arial\,helvetica\,sans-serif">The City of Winter Springs to host 22-year Remembrance of&nbsp\; 9/11 events</span></span></strong></p>\n\n<p><span style="font-size:14px"><span style="font-family:arial\,helvetica\,sans-serif">The 22nd-anniversary commemoration ceremony will take place in front of the Winter Springs Police Department on Monday\, September 11\, 2023. Join your Winter Springs City Commission\, police department\, and community from 8-9 AM for a memorial service that pays tribute to the victims and honors the survivors of the September 11\, 2001 terror attacks. Our program will begin at 8 AM\, and a moment of silence will be observed at 8:46 AM.&nbsp\;</span></span></p>\n
LOCATION:Winter Springs Police Department ( 300 N. Moss Road Winter Springs\, FL 32708)
UID:e.1204.42671
SEQUENCE:3
DTSTAMP:20260422T012751Z
URL:https://business.owsrcc.org/events/details/city-of-winter-springs-9-11-memorial-ceremony-42671
END:VEVENT

END:VCALENDAR
