BEGIN:VCALENDAR
VERSION:2.0
PRODID:-//ChamberMaster//Event Calendar 2.0//EN
METHOD:PUBLISH
X-PUBLISHED-TTL:P3D
REFRESH-INTERVAL:P3D
CALSCALE:GREGORIAN
BEGIN:VEVENT
DTSTART:20240119T220000Z
DTEND:20240120T010000Z
X-MICROSOFT-CDO-ALLDAYEVENT:FALSE
SUMMARY:City Of Oviedo- Movie in the Park
DESCRIPTION:"Small Foot" is the Movie of the Month. Movie in the Park is Free\, fun\, and family friendly. Join us on the main amphitheater lawn (bring blankets/chairs) for a special screening of "Small Foot". Sponsors and vendors on site. Marina (swan boats) open before. Cantina (concession stand) open throughout. Free parking. Subject to change. Bags etc may be searched. No refunds.
X-ALT-DESC;FMTTYPE=text/html:&quot\;Small Foot&quot\; is the Movie of the Month. Movie in the Park is Free\, fun\, and family friendly. Join us on the main amphitheater lawn (bring blankets/chairs) for a special screening of &ldquo\;Small Foot&rdquo\;. Sponsors and vendors on site. Marina (swan boats) open before. Cantina (concession stand) open throughout. Free parking. Subject to change. Bags etc may be searched. No refunds.
LOCATION:Center Lake Park
UID:e.1204.43223
SEQUENCE:3
DTSTAMP:20260421T125748Z
URL:https://business.owsrcc.org/events/details/city-of-oviedo-movie-in-the-park-43223
END:VEVENT

END:VCALENDAR
