BEGIN:VCALENDAR
VERSION:2.0
PRODID:-//ChamberMaster//Event Calendar 2.0//EN
METHOD:PUBLISH
X-PUBLISHED-TTL:P3D
REFRESH-INTERVAL:P3D
CALSCALE:GREGORIAN
BEGIN:VEVENT
DTSTART:20240216T230000Z
DTEND:20240217T010000Z
X-MICROSOFT-CDO-ALLDAYEVENT:FALSE
SUMMARY:City of Oviedo- Movie in the Park
DESCRIPTION:Movie Night in The Park\, at The Oviedo Amphitheatre in Center Lake Park! The movie begins at "dusk" (approximately 6:45) Remember to bring a blanket or lawn chairs. FREE POPCORN will be provided by Bosely Group. NO Food and concessions will be available for purchase at the movie so please prepare. Plan to arrive early to secure your seats on the family lawn\, as they are first come first serve. Feel free to enjoy the rest of beautiful Center Lake Park before or after the movie. We have three large lawn spaces\, a dog park\, a beautiful Veterans Tribute\, a splash pad\, playground\, and Cantina (concession stand). There is a little something for everyone here at Center Lake Park. We also have great new restaurants and bars within walking distance of the park and FREE parking! No Pets allowed
X-ALT-DESC;FMTTYPE=text/html:Movie Night in The Park\, at The Oviedo Amphitheatre in Center Lake Park! The movie begins at &quot\;dusk&quot\; (approximately 6:45) Remember to bring a blanket or lawn chairs. FREE POPCORN will be provided by Bosely Group. NO Food and concessions will be available for purchase at the movie so please prepare. Plan to arrive early to secure your seats on the family lawn\, as they are first come first serve. Feel free to enjoy the rest of beautiful Center Lake Park before or after the movie. We have three large lawn spaces\, a dog park\, a beautiful Veterans Tribute\, a splash pad\, playground\, and Cantina (concession stand). There is a little something for everyone here at Center Lake Park. We also have great new restaurants and bars within walking distance of the park and FREE parking! No Pets allowed
LOCATION:Center Lake Park
UID:e.1204.43225
SEQUENCE:3
DTSTAMP:20260421T125831Z
URL:https://business.owsrcc.org/events/details/city-of-oviedo-movie-in-the-park-02-16-2024-43225
END:VEVENT

END:VCALENDAR
