BEGIN:VCALENDAR
VERSION:2.0
PRODID:-//ChamberMaster//Event Calendar 2.0//EN
METHOD:PUBLISH
X-PUBLISHED-TTL:P3D
REFRESH-INTERVAL:P3D
CALSCALE:GREGORIAN
BEGIN:VEVENT
DTSTART:20230704T210000Z
DTEND:20230705T013000Z
X-MICROSOFT-CDO-ALLDAYEVENT:FALSE
SUMMARY:Celebration of Freedom
DESCRIPTION:Celebrate the 4th of July with a BANG! Join your community at Central Winds Park for our annual Celebration of Freedom. The evening is filled with fun from live entertainment\, a free kid's area\, & great vendors. The night will wrap up with a world-class firework display.\n\n \n\nAre you interested in becoming a sponsor or vendor at this event? Email Communications@winterspringsfl.org for more opportunities and information.
X-ALT-DESC;FMTTYPE=text/html:<p><span style="font-size:14px"><span style="font-family:arial\,helvetica\,sans-serif"><span style="color:rgb(54\, 54\, 54)">Celebrate the 4th of July with a BANG! Join your community at Central Winds Park for our annual Celebration of Freedom. The evening is filled with fun from live entertainment\, a free kid&rsquo\;s area\, &amp\; great vendors. The night will wrap up with a world-class firework display.</span></span></span><br />\n&nbsp\;</p>\n\n<p><span style="font-size:14px"><span style="font-family:arial\,helvetica\,sans-serif">Are you interested in becoming a sponsor or vendor at this event?&nbsp\;</span></span><span style="font-family:arial\,helvetica\,sans-serif\; font-size:14px">Email&nbsp\;</span><u><a href="mailto:Communications@winterspringsfl.org" style="text-decoration-line: none\; color: rgb(58\, 115\, 152)\; background: transparent\;">Communications@winterspringsfl.org</a></u><span style="font-family:arial\,helvetica\,sans-serif\; font-size:14px">&nbsp\;for more opportunities and information.</span></p>\n
LOCATION:Central Winds Park 1000 Central Winds Dr. Winter Springs\, FL 32708
UID:e.1204.41781
SEQUENCE:3
DTSTAMP:20260422T045804Z
URL:https://business.owsrcc.org/events/details/celebration-of-freedom-07-04-2023-41781
END:VEVENT

END:VCALENDAR
