BEGIN:VCALENDAR
VERSION:2.0
PRODID:-//ChamberMaster//Event Calendar 2.0//EN
METHOD:PUBLISH
X-PUBLISHED-TTL:P3D
REFRESH-INTERVAL:P3D
CALSCALE:GREGORIAN
BEGIN:VEVENT
DTSTART:20241010T213000Z
DTEND:20241010T230000Z
X-MICROSOFT-CDO-ALLDAYEVENT:FALSE
SUMMARY:(CANCELED) Industry Innovators
DESCRIPTION:CANCELED due to storm. WATCH FOR RESCHEDULED DATE. Attendees will have the opportunity to network with like-minded peers\, engage in thought-provoking discussions\, and build valuable connections. The events may also feature keynote speaker who is a leader in their field\, offering insights and perspectives on the latest industry trends and best practices. \n\n\n\nThis group will meet on the 2nd or 3rd Thursday of every month from 5:30 - 7:00 pm at varying locations.
X-ALT-DESC;FMTTYPE=text/html:<span style="font-size:14px\;">CANCELED due to storm. WATCH FOR RESCHEDULED DATE. Attendees will have the opportunity to network with like-minded peers\, engage in thought-provoking discussions\, and build valuable connections. The events may also feature keynote speaker who is a leader in their field\, offering insights and perspectives on the latest industry trends and best practices.&nbsp\;<br />\n<br />\nThis group will meet on the 2nd or 3rd Thursday of every month from 5:30 - 7:00 pm at varying locations.&nbsp\;</span>
LOCATION:Oviedo Brewing Company Oviedo Mall
UID:e.1204.44627
SEQUENCE:3
DTSTAMP:20260420T194929Z
URL:https://business.owsrcc.org/events/details/canceled-industry-innovators-44627
END:VEVENT

END:VCALENDAR
