BEGIN:VCALENDAR
VERSION:2.0
PRODID:-//ChamberMaster//Event Calendar 2.0//EN
METHOD:PUBLISH
X-PUBLISHED-TTL:P3D
REFRESH-INTERVAL:P3D
CALSCALE:GREGORIAN
BEGIN:VEVENT
DTSTART:20260407T213000Z
DTEND:20260407T230000Z
X-MICROSOFT-CDO-ALLDAYEVENT:FALSE
SUMMARY:CA5 - Chamber After Five
DESCRIPTION:As our premiere\, evening event\, CA5 is a great opportunity for our members who can't attend our daytime functions. Hosted by the chamber staff\, come learn about your membership while meeting some new and familiar faces. This event takes place on the first Tuesday of every month starting at 5:30 pm at rotating locations.
X-ALT-DESC;FMTTYPE=text/html:<span style="font-size: 14px\;">As our premiere\, evening event\, CA5 is a great opportunity for our members who can&rsquo\;t attend our daytime functions. Hosted by the chamber staff\, come learn about your membership while meeting some new and familiar faces.&nbsp\;This event takes place on the first Tuesday of every month starting at 5:30 pm at rotating locations.</span>
LOCATION:FORD'S GARAGE OVIEDO 459 East Mitchell Hammock Road Oviedo\, FL 32765
UID:e.1204.45990
SEQUENCE:3
DTSTAMP:20260424T102910Z
URL:https://business.owsrcc.org/events/details/ca5-chamber-after-five_2025-04-07-2026-45990
END:VEVENT

END:VCALENDAR
