BEGIN:VCALENDAR
VERSION:2.0
PRODID:-//ChamberMaster//Event Calendar 2.0//EN
METHOD:PUBLISH
X-PUBLISHED-TTL:P3D
REFRESH-INTERVAL:P3D
CALSCALE:GREGORIAN
BEGIN:VEVENT
DTSTART:20240604T213000Z
DTEND:20240604T230000Z
X-MICROSOFT-CDO-ALLDAYEVENT:FALSE
SUMMARY:CA5 - Chamber After Five
DESCRIPTION:Join us for CA5 - Chamber After Five\, our monthly casual networking event.  This month we are at the new Jinya Ramen Bar!  We'll also celebrate with a ribbon-cutting at this exciting new venue!
X-ALT-DESC;FMTTYPE=text/html:Join us for CA5 - Chamber After Five\, our monthly casual networking event.&nbsp\; This month we are at the new Jinya Ramen Bar!&nbsp\; We&#39\;ll also celebrate with a ribbon-cutting at this exciting new venue!
LOCATION:234 E. Mitchell Hammock Rd.\, Oviedo (Near CFS Coffee & The Ellington Apts.)
UID:e.1204.44102
SEQUENCE:3
DTSTAMP:20260421T043719Z
URL:https://business.owsrcc.org/events/details/ca5-chamber-after-five-44102
END:VEVENT

END:VCALENDAR
