BEGIN:VCALENDAR
VERSION:2.0
PRODID:-//ChamberMaster//Event Calendar 2.0//EN
METHOD:PUBLISH
X-PUBLISHED-TTL:P3D
REFRESH-INTERVAL:P3D
CALSCALE:GREGORIAN
BEGIN:VEVENT
DTSTART:20240206T223000Z
DTEND:20240207T000000Z
X-MICROSOFT-CDO-ALLDAYEVENT:FALSE
SUMMARY:CA5-Chamber After Five
DESCRIPTION:CA5 - Chamber After Five - is our premier evening networking event!  Join us for casual\, fun while making some valuable connections!
X-ALT-DESC;FMTTYPE=text/html:CA5 - Chamber After Five - is our premier evening networking event!&nbsp\; Join us for casual\, fun while making some valuable connections!
LOCATION:Rock & Brews Oviedo 7131 Red Bug Lake Rd.\, Oviedo
UID:e.1204.44060
SEQUENCE:3
DTSTAMP:20260421T110531Z
URL:https://business.owsrcc.org/events/details/ca5-chamber-after-five-44060
END:VEVENT

END:VCALENDAR
