BEGIN:VCALENDAR
VERSION:2.0
PRODID:-//ChamberMaster//Event Calendar 2.0//EN
METHOD:PUBLISH
X-PUBLISHED-TTL:P3D
REFRESH-INTERVAL:P3D
CALSCALE:GREGORIAN
BEGIN:VEVENT
DTSTART:20240402T213000Z
DTEND:20240402T230000Z
X-MICROSOFT-CDO-ALLDAYEVENT:FALSE
SUMMARY:CA5-Chamber After Five
DESCRIPTION:CA5 - Chamber After Five - is our premier\, casual networking event held on the first Tuesday of each month!\n\nGuest Speaker tonight will be Chamber Member\, TeamLogicIT.  Our gracious host is Spill Wine Bar in Winter Springs!
X-ALT-DESC;FMTTYPE=text/html:CA5 - Chamber After Five - is our premier\, casual networking event held on the first Tuesday of each month!<br />\nGuest Speaker tonight will be Chamber Member\, TeamLogicIT.&nbsp\; Our gracious host is Spill Wine Bar in Winter Springs!
LOCATION:1196 Tree Swallow Drive\, Winter Springs
UID:e.1204.43652
SEQUENCE:3
DTSTAMP:20260421T081208Z
URL:https://business.owsrcc.org/events/details/ca5-chamber-after-five-43652
END:VEVENT

END:VCALENDAR
