BEGIN:VCALENDAR
VERSION:2.0
PRODID:-//ChamberMaster//Event Calendar 2.0//EN
METHOD:PUBLISH
X-PUBLISHED-TTL:P3D
REFRESH-INTERVAL:P3D
CALSCALE:GREGORIAN
BEGIN:VEVENT
DTSTART:20240104T223000Z
DTEND:20240105T000000Z
X-MICROSOFT-CDO-ALLDAYEVENT:FALSE
SUMMARY:CA5-Chamber After 5
DESCRIPTION:As our premiere\, evening event\, CA5 is a great opportunity for our members who can't attend our daytime functions. Hosted by the chamber staff\, come learn about your membership while meeting some new and familiar faces. This event takes place on the first Tuesday of every month starting at 5:30 pm.  January 2024 will be on Thursday\, Jan. 4 due to the holidays.
X-ALT-DESC;FMTTYPE=text/html:<span style="font-size:14px\;">As our premiere\, evening event\, CA5 is a great opportunity for our members who can&rsquo\;t attend our daytime functions. Hosted by the chamber staff\, come learn about your membership while meeting some new and familiar faces.&nbsp\;This event takes place on the first Tuesday of every month starting at 5:30 pm.&nbsp\; January 2024 will be on Thursday\, Jan. 4 due to the holidays.</span>
LOCATION:Marlow's Tavern 352 Mike Roberto Way Oviedo FL 32765
UID:e.1204.43214
SEQUENCE:3
DTSTAMP:20260421T125005Z
URL:https://business.owsrcc.org/events/details/ca5-chamber-after-5-43214
END:VEVENT

END:VCALENDAR
