BEGIN:VCALENDAR
VERSION:2.0
PRODID:-//ChamberMaster//Event Calendar 2.0//EN
METHOD:PUBLISH
X-PUBLISHED-TTL:P3D
REFRESH-INTERVAL:P3D
CALSCALE:GREGORIAN
BEGIN:VEVENT
DTSTART:20240620T130000Z
DTEND:20240621T030000Z
X-MICROSOFT-CDO-ALLDAYEVENT:FALSE
SUMMARY:Business Certifications Event
DESCRIPTION:Attention business owners! Don't miss our upcoming minority- and women-owned business certification overview event presented by two industry experts. Benefits of getting certified include increased visibility\, access to resources\, and enhanced credibility. Join us to unlock these benefits for your business! Register to save your spot today at sem.st/cbd_events
X-ALT-DESC;FMTTYPE=text/html:<span style="color:rgba(0\, 0\, 0\, 0.9)\; font-family:-apple-system\,system-ui\,system-ui\,segoe ui\,roboto\,helvetica neue\,fira sans\,ubuntu\,oxygen\,oxygen sans\,cantarell\,droid sans\,apple color emoji\,segoe ui emoji\,segoe ui emoji\,segoe ui symbol\,lucida grande\,helvetica\,arial\,sans-serif\; font-size:14px">&nbsp\;Attention business owners! Don&#39\;t miss our upcoming minority- and women-owned business certification overview event presented by two industry experts. Benefits of getting certified include increased visibility\, access to resources\, and enhanced credibility. Join us to unlock these benefits for your business! Register to save your spot today at&nbsp\;</span><a href="http://sem.st/cbd_events" style="box-sizing: inherit\; margin: var(--artdeco-reset-base-margin-zero)\; padding: var(--artdeco-reset-base-padding-zero)\; font-size: 14px\; vertical-align: var(--artdeco-reset-base-vertical-align-baseline)\; text-decoration: var(--artdeco-reset-link-text-decoration-none)\; font-weight: var(--font-weight-bold)\; border: var(--artdeco-reset-link-border-zero)\; color: var(--color-action)\; font-family: -apple-system\, system-ui\, &quot\;system-ui&quot\;\, &quot\;Segoe UI&quot\;\, Roboto\, &quot\;Helvetica Neue&quot\;\, &quot\;Fira Sans&quot\;\, Ubuntu\, Oxygen\, &quot\;Oxygen Sans&quot\;\, Cantarell\, &quot\;Droid Sans&quot\;\, &quot\;Apple Color Emoji&quot\;\, &quot\;Segoe UI Emoji&quot\;\, &quot\;Segoe UI Emoji&quot\;\, &quot\;Segoe UI Symbol&quot\;\, &quot\;Lucida Grande&quot\;\, Helvetica\, Arial\, sans-serif\; touch-action: manipulation\; position: relative\; word-break: normal\; overflow-wrap: normal\; scroll-behavior: auto !important\; line-height: inherit !important\;" target="_self">sem.st/cbd_events</a>
LOCATION:Seminole State College\, Heathrow Campus 1055 AAA Dr.\, Heathrow\, FL 32746 Rm. 138
UID:e.1204.44356
SEQUENCE:3
DTSTAMP:20260421T043745Z
URL:https://business.owsrcc.org/events/details/business-certifications-event-44356
END:VEVENT

END:VCALENDAR
