BEGIN:VCALENDAR
VERSION:2.0
PRODID:-//ChamberMaster//Event Calendar 2.0//EN
METHOD:PUBLISH
X-PUBLISHED-TTL:P3D
REFRESH-INTERVAL:P3D
CALSCALE:GREGORIAN
BEGIN:VEVENT
DTSTART:20240305T160000Z
DTEND:20240306T020000Z
X-MICROSOFT-CDO-ALLDAYEVENT:FALSE
SUMMARY:Bronx House Pizza Party for s Cause to support Rescue Outreach Mission
DESCRIPTION:In partnership with Rescue Outreach Mission\, Bronx House Pizza in Lake Mary will be hosting a day where 100% OF ALL SALES will be donated to ROM. The day will be filled with special activities and special guest appearances all to support Rescue Outreach Mission.\n\n\n\nTo order the day of the event visit Bronx House Pizza online at: https://bronxhouse-lakemary.foodtecsolutions.com/ordering/home\n\nBy phone: 407-323-9222\n\nOr in person at 4205 W Lake Mary Blvd\, Lake Mary\, FL 32746
X-ALT-DESC;FMTTYPE=text/html:<span style="color:rgb(5\, 5\, 5)\; font-family:segoe ui historic\,segoe ui\,helvetica\,arial\,sans-serif\; font-size:15px">In partnership with Rescue Outreach Mission\, Bronx House Pizza in Lake Mary will be hosting a day where 100% OF ALL SALES will be donated to ROM. The day will be filled with special activities and special guest appearances all to support Rescue Outreach Mission.<br />\n<br />\nTo order the day of the event visit Bronx House Pizza online at: https://bronxhouse-lakemary.foodtecsolutions.com/ordering/home<br />\nBy phone: 407-323-9222<br />\nOr in person at 4205 W Lake Mary Blvd\, Lake Mary\, FL 32746</span>
LOCATION:Bronx House Pizza 4205 W Lake Mary Blvd Lake Mary\, FL 32746
UID:e.1204.44079
SEQUENCE:3
DTSTAMP:20260421T100119Z
URL:https://business.owsrcc.org/events/details/bronx-house-pizza-party-for-s-cause-to-support-rescue-outreach-mission-44079
END:VEVENT

END:VCALENDAR
