BEGIN:VCALENDAR
VERSION:2.0
PRODID:-//ChamberMaster//Event Calendar 2.0//EN
METHOD:PUBLISH
X-PUBLISHED-TTL:P3D
REFRESH-INTERVAL:P3D
CALSCALE:GREGORIAN
BEGIN:VEVENT
DTSTART:20240818T000000Z
DTEND:20240818T000000Z
X-MICROSOFT-CDO-ALLDAYEVENT:FALSE
SUMMARY:Bonkerz Comedy Productions
DESCRIPTION:Bonkerz Comedy Productions presents comedian Bubba Bradley
X-ALT-DESC;FMTTYPE=text/html:Bonkerz Comedy Productions presents comedian Bubba Bradley
LOCATION:357 Center Lake Ln.\, Oviedo
UID:e.1204.44602
SEQUENCE:3
DTSTAMP:20260421T010005Z
URL:https://business.owsrcc.org/events/details/bonkerz-comedy-productions-44602
END:VEVENT

END:VCALENDAR
