BEGIN:VCALENDAR
VERSION:2.0
PRODID:-//ChamberMaster//Event Calendar 2.0//EN
METHOD:PUBLISH
X-PUBLISHED-TTL:P3D
REFRESH-INTERVAL:P3D
CALSCALE:GREGORIAN
BEGIN:VEVENT
DTSTART:20260804T200000Z
DTEND:20260804T211500Z
X-MICROSOFT-CDO-ALLDAYEVENT:FALSE
SUMMARY:Back to School: Principles for How We Treat Each Other Community Workshop
DESCRIPTION:It's almost back to school! If you're a parent\, grandparent\, teacher\, administrator\, or friend to students join us for this session. About the Workshop: Going back to school can be a difficult transition\, but made smooth by intentional practices. The Principles For How We Treat Each Other provides people with effective tools for engaging in difficult conversations\, empathetic listening\, perspective taking and relationship building. This workshop invites participants to place storytelling at the center of their work in order to develop authentic and meaningful relationships.
X-ALT-DESC;FMTTYPE=text/html:It&#39\;s almost back to school! If you&#39\;re a parent\, grandparent\, teacher\, administrator\, or friend to students join us for this session. About the Workshop: Going back to school can be a difficult transition\, but made smooth by intentional practices. The Principles For How We Treat Each Other provides people with effective tools for engaging in difficult conversations\, empathetic listening\, perspective taking and relationship building. This workshop invites participants to place storytelling at the center of their work in order to develop authentic and meaningful relationships.
LOCATION:This event will be hosted on the east side of Orlando. Exact location TBD.
UID:e.1204.46066
SEQUENCE:3
DTSTAMP:20260422T062940Z
URL:https://business.owsrcc.org/events/details/back-to-school-principles-for-how-we-treat-each-other-community-workshop-46066
END:VEVENT

END:VCALENDAR
