BEGIN:VCALENDAR
VERSION:2.0
PRODID:-//ChamberMaster//Event Calendar 2.0//EN
METHOD:PUBLISH
X-PUBLISHED-TTL:P3D
REFRESH-INTERVAL:P3D
CALSCALE:GREGORIAN
BEGIN:VEVENT
DTSTART:20240420T141500Z
DTEND:20240420T153000Z
X-MICROSOFT-CDO-ALLDAYEVENT:FALSE
SUMMARY:Back to Basics Workshop
DESCRIPTION:Back to Basics Workshop at Basecamp Fitness Oviedo!\n\n \n\nPerfect your form in hinges\, lunges\, squats\, and TRX! This workout is focused on getting the most out of these four basics movements. Sign up now to reserve your spot in this workshop! Class will be 45 minutes long\, with multiple coaches assisting so you get the most of your time.
X-ALT-DESC;FMTTYPE=text/html:<p>Back to Basics Workshop at Basecamp Fitness Oviedo!</p>\n\n<p>&nbsp\;</p>\n\n<p>Perfect your form in hinges\, lunges\, squats\, and TRX! This workout is focused on getting the most out of these four basics movements. Sign up now to reserve your spot in this workshop! Class will be 45 minutes long\, with multiple coaches assisting so you get the most of your time.</p>\n
LOCATION:Basecamp Fitness Oviedo 1121 Alafaya Trail In the Sprouts/Marshall's center Oviedo\, FL 32765
UID:e.1204.44140
SEQUENCE:3
DTSTAMP:20260421T124033Z
URL:https://business.owsrcc.org/events/details/back-to-basics-workshop-44140
END:VEVENT

END:VCALENDAR
