BEGIN:VCALENDAR
VERSION:2.0
PRODID:-//ChamberMaster//Event Calendar 2.0//EN
METHOD:PUBLISH
X-PUBLISHED-TTL:P3D
REFRESH-INTERVAL:P3D
CALSCALE:GREGORIAN
BEGIN:VEVENT
DTSTART:20240803T153000Z
DTEND:20240803T163000Z
X-MICROSOFT-CDO-ALLDAYEVENT:FALSE
SUMMARY:Back 2 School Bash Presented by Precious Fine Jewelers
DESCRIPTION:Join us for the Oviedo Mall's Kid Crew: Back 2 School Bash presented by Precious Fine Jewelers! \n\nGet ready to kick off the school year in style with our exciting school supply scavenger hunt! Children 12 and under are invited to join us on August 3\, 2024\, beginning at 11:30am-12:30pm (or while supplies last) for a day filled with fun and freebies.\n\nParticipants receive a beautiful new backpack\, courtesy of Precious Fine Jewelers. \n\nFollow the Supply Stop Map and visit various stores around the mall to collect your school supplies. \n\nThe adventure begins at Precious Fine Jewelers\, where you'll receive your backpack and scavenger hunt map.\n\nPlease note that this event operates on a first come\, first serve basis\, so make sure to arrive early! Registration does not guarantee participation\, and your child MUST be present to receive the backpack and map. Don't miss out on this amazing opportunity to start the school year off right with Oviedo Mall's Kid Crew: Back 2 School Bash!
X-ALT-DESC;FMTTYPE=text/html:<p>Join us for the Oviedo Mall&#39\;s Kid Crew: Back 2 School Bash presented by Precious Fine Jewelers!&nbsp\;</p>\n\n<p>Get ready to kick off the school year in style with our exciting school supply scavenger hunt! Children 12 and under are invited to join us on August 3\, 2024\, beginning at 11:30am-12:30pm (or while supplies last) for a day filled with fun and freebies.</p>\n\n<p>Participants receive a beautiful new backpack\, courtesy of Precious Fine Jewelers.&nbsp\;</p>\n\n<p>Follow the Supply Stop Map and visit various stores around the mall to collect your school supplies.&nbsp\;</p>\n\n<p>The adventure begins at Precious Fine Jewelers\, where you&#39\;ll receive your backpack and scavenger hunt map.</p>\n\n<p>Please note that this event operates on a first come\, first serve basis\, so make sure to arrive early! Registration does not guarantee participation\, and your child MUST be present to receive the backpack and map. Don&#39\;t miss out on this amazing opportunity to start the school year off right with Oviedo Mall&#39\;s Kid Crew: Back 2 School Bash!</p>\n
LOCATION:Oviedo Mall | 1700 Oviedo Mall Blvd\, Oviedo\, FL 32765
UID:e.1204.44592
SEQUENCE:3
DTSTAMP:20260421T025534Z
URL:https://business.owsrcc.org/events/details/back-2-school-bash-presented-by-precious-fine-jewelers-44592
END:VEVENT

END:VCALENDAR
