BEGIN:VCALENDAR
VERSION:2.0
PRODID:-//ChamberMaster//Event Calendar 2.0//EN
METHOD:PUBLISH
X-PUBLISHED-TTL:P3D
REFRESH-INTERVAL:P3D
CALSCALE:GREGORIAN
BEGIN:VEVENT
DTSTART:20231206T223000Z
DTEND:20231207T003000Z
X-MICROSOFT-CDO-ALLDAYEVENT:FALSE
SUMMARY:Annual Holiday Party
DESCRIPTION:Join your favorite Chamber Staff to celebrate the season at our Annual Holiday Party.  More details to come!
X-ALT-DESC;FMTTYPE=text/html:<span style="font-size:14px\;">Join your favorite Chamber Staff to celebrate the season&nbsp\;at our Annual Holiday Party.&nbsp\; More details to come!</span>
LOCATION:Chamber Offices\, 1511 E. State Rd. 434\, Ste. 1009\, Winter Springs
UID:e.1204.41515
SEQUENCE:3
DTSTAMP:20260421T202814Z
URL:https://business.owsrcc.org/events/details/annual-holiday-party-12-07-2023-41515
END:VEVENT

END:VCALENDAR
