BEGIN:VCALENDAR
VERSION:2.0
PRODID:-//ChamberMaster//Event Calendar 2.0//EN
METHOD:PUBLISH
X-PUBLISHED-TTL:P3D
REFRESH-INTERVAL:P3D
CALSCALE:GREGORIAN
BEGIN:VEVENT
DTSTART:20240925T133000Z
DTEND:20240925T153000Z
X-MICROSOFT-CDO-ALLDAYEVENT:FALSE
SUMMARY:All My Children - Planning for your Pets
DESCRIPTION:Animal companions...your pets..."your children." Whatever you call them\, they are dearly loved family members. Our pets share day-to-day struggles\, adventures\, and special moments and play times with us. They leave us with a legacy of happy memories after they're gone. Our pets love us unconditionally\, help reduce stress and even enhance longevity. For all these reasons and so many more\, you should explore all the alternatives for planning for your pet's future without you and for your future without your pet.
X-ALT-DESC;FMTTYPE=text/html:Animal companions...your pets...&quot\;your children.&quot\; Whatever you call them\, they are dearly loved family members. Our pets share day-to-day struggles\, adventures\, and special moments and play times with us. They leave us with a legacy of happy memories after they&#39\;re gone. Our pets love us unconditionally\, help reduce stress and even enhance longevity. For all these reasons and so many more\, you should explore all the alternatives for planning for your pet&#39\;s future without you and for your future without your pet.
LOCATION:Virtual location You will receive a confirmation email with URL after registration
UID:e.1204.44613
SEQUENCE:3
DTSTAMP:20260420T231346Z
URL:https://business.owsrcc.org/events/details/all-my-children-planning-for-your-pets-44613
END:VEVENT

END:VCALENDAR
