BEGIN:VCALENDAR
VERSION:2.0
PRODID:-//ChamberMaster//Event Calendar 2.0//EN
METHOD:PUBLISH
X-PUBLISHED-TTL:P3D
REFRESH-INTERVAL:P3D
CALSCALE:GREGORIAN
BEGIN:VEVENT
DTSTART:20240109T000000Z
DTEND:20240109T020000Z
X-MICROSOFT-CDO-ALLDAYEVENT:FALSE
SUMMARY:$5 Mystery Movie at Oviedo Mall
DESCRIPTION:Shhh! Be the first to see this NEW movie before its official release date for only $5... We just can't tell you the title! The next Monday Mystery Movie at Regal Oviedo Mall is on January 8!
X-ALT-DESC;FMTTYPE=text/html:<span style="font-family:exo\,helvetica neue\,helvetica\,arial\,serif\; font-size:14px">Shhh! Be the first to see this NEW movie before its official release date for only $5... We just can&#39\;t tell you the title! The next Monday Mystery Movie at Regal Oviedo Mall is on January 8!</span>
LOCATION:Oviedo Mall | Regal Theater 1500 Oviedo Mall Blvd Oviedo\, FL 32765
UID:e.1204.43641
SEQUENCE:3
DTSTAMP:20260421T141047Z
URL:https://business.owsrcc.org/events/details/5-mystery-movie-at-oviedo-mall-43641
END:VEVENT

END:VCALENDAR
