BEGIN:VCALENDAR
VERSION:2.0
PRODID:-//ChamberMaster//Event Calendar 2.0//EN
METHOD:PUBLISH
X-PUBLISHED-TTL:P3D
REFRESH-INTERVAL:P3D
CALSCALE:GREGORIAN
BEGIN:VEVENT
DTSTART:20241122T123000Z
DTEND:20241122T190000Z
X-MICROSOFT-CDO-ALLDAYEVENT:FALSE
SUMMARY:37th Annual OWSRCC Golf Tournament
DESCRIPTION:Our Chamber Scholarship Golf Tournament is an annual event coordinated by the Oviedo Winter Springs Regional Chamber of Commerce and presented by Oviedo City Church to benefit our scholarship fund. The tournament assists us in awarding scholarships and entrepreneurial grants to deserving students.\n\n\n\nJoin us for a fun day of golf (four-person scramble format)! \n\nOur golf tournament is attended by community leaders\, elected officials\, and local business leaders with plenty of networking opportunities available. Lunch is provided and an awards reception will take place after everyone has finished their round of golf.\n\n\n\nInterested in participating? We are looking for sponsors\, golf foursomes\,\n\nvolunteers\, and companies that would like to donate prizes for our raffle! We're also looking for volunteers who would be interested in helping the Chamber with this event.
X-ALT-DESC;FMTTYPE=text/html:<p><span style="font-size:14px\;"><span style="font-family:arial\;"><span style="color:#000000\;"><span style="box-sizing: border-box\; margin: 0px\; padding: 0px\; border: 0px\; outline: 0px\; background: 0px 0px\; vertical-align: baseline\; text-size-adjust: 100%\;">Our Chamber Scholarship Golf Tournament is an annual event coordinated by the Oviedo Winter Springs Regional Chamber of Commerce and presented by Oviedo City Church to benefit our scholarship fund. The tournament assists us in awarding scholarships and entrepreneurial grants to deserving students.<br />\n<br />\nJoin us for a fun day of golf (four-person scramble format)!&nbsp\;</span></span></span></span></p>\n\n<p open="" style="box-sizing: border-box\; margin: 0px\; padding: 0px 0px 1em\; border: 0px\; outline: 0px\; background-image: initial\; background-position: 0px 0px\; background-size: initial\; background-repeat: initial\; background-attachment: initial\; background-origin: initial\; background-clip: initial\; font-size: 14px\; vertical-align: baseline\; text-size-adjust: 100%\; color: rgb(102\, 102\, 102)\;"><span style="font-size:14px\;"><span style="font-family:arial\;"><span style="color:#000000\;"><span style="box-sizing: border-box\; margin: 0px\; padding: 0px\; border: 0px\; outline: 0px\; background: 0px 0px\; vertical-align: baseline\; text-size-adjust: 100%\;">Our golf tournament is attended by community leaders\, elected officials\, and local business leaders with plenty of networking opportunities available. Lunch is provided and an awards reception will take place after everyone has finished their round of golf.</span></span><br />\n<br />\n<span style="color:#000000\;">Interested in participating? We are looking for sponsors\, golf foursomes\,<br />\nvolunteers\, and companies that would like to donate prizes for our raffle! We&#39\;re also looking for volunteers who would be interested in helping the Chamber with this event.</span></span></span></p>\n
LOCATION:Twin Rivers Golf Club 2100 Ekana Dr. Oviedo\, FL 32765
UID:e.1204.44650
SEQUENCE:3
DTSTAMP:20260420T195217Z
URL:https://business.owsrcc.org/events/details/37th-annual-owsrcc-golf-tournament-44650
END:VEVENT

END:VCALENDAR
