BEGIN:VCALENDAR
VERSION:2.0
PRODID:-//ChamberMaster//Event Calendar 2.0//EN
METHOD:PUBLISH
X-PUBLISHED-TTL:P3D
REFRESH-INTERVAL:P3D
CALSCALE:GREGORIAN
BEGIN:VEVENT
DTSTART:20240131T170000Z
DTEND:20240131T210000Z
X-MICROSOFT-CDO-ALLDAYEVENT:FALSE
SUMMARY:23rd Annual Mayor’s Job Fair
DESCRIPTION:All Job Seekers Welcome! Meet\, network and interview with nearly 100 companies from around the Central Florida region waiting to hire you! Find your next employer at the Central Florida Employment Council | CFEC Job Fair in Orlando\, Florida\, from 12-4 pm at the Orlando Fairgrounds Expo Building\, 4603 W. Colonial Drive\, Orlando\, FL 32808. This is an indoor event   rain or shine. Thousands of career openings in various industries as well as employment resources on hand to assist your job search. Dress interview ready\; bring plenty of resumes\, free admission/parking\, and no children\, please. Register as a job seeker today www.cfec.org.
X-ALT-DESC;FMTTYPE=text/html:<span style="font-family:calibri\,sans-serif"><span style="font-size:11.0pt">All Job Seekers Welcome! Meet\, network and interview with nearly 100 companies from around the Central Florida region waiting to hire you! Find your next employer at the Central Florida Employment Council | CFEC Job Fair in Orlando\, Florida\, from 12-4 pm at the Orlando Fairgrounds Expo Building\, 4603 W. Colonial Drive\, Orlando\, FL 32808. This is an indoor event &ndash\; rain or shine. Thousands of career openings in various industries as well as employment resources on hand to assist your job search. Dress interview ready\; bring plenty of resumes\, free admission/parking\, and no children\, please. Register as a job seeker today www.cfec.org.</span></span>
LOCATION:Venue: Orlando Fairgrounds Expo Building Address: 4603 W Colonial Dr.\, Orlando\, FL 32808
UID:e.1204.43215
SEQUENCE:3
DTSTAMP:20260421T125135Z
URL:https://business.owsrcc.org/events/details/23rd-annual-mayor-s-job-fair-43215
END:VEVENT

END:VCALENDAR
