BEGIN:VCALENDAR
VERSION:2.0
PRODID:-//ChamberMaster//Event Calendar 2.0//EN
METHOD:PUBLISH
X-PUBLISHED-TTL:P3D
REFRESH-INTERVAL:P3D
CALSCALE:GREGORIAN
BEGIN:VEVENT
DTSTART:20260406T220000Z
DTEND:20260407T010000Z
X-MICROSOFT-CDO-ALLDAYEVENT:FALSE
SUMMARY:Sanford Speaks
DESCRIPTION:Join the Peace and Justice Institute and the City of Sanford. Event Description The City of Sanford is committed to ensuring we are inclusive and accepting of all people\, because the strength of our community is our diversity. The City of Sanford's Race\, Equality\, Equity\, and Inclusion Advisory Committee and the Mayor's Youth Council\, in partnership with PJI\, are hosting community conversations to hear the voice of our youth and work together to build a more equitable and inclusive future for all residents. This year\, we will explore Sanford's history while amplifying youth perspectives on the issues that matter most today.
X-ALT-DESC;FMTTYPE=text/html:Join the Peace and Justice Institute and the City of Sanford. Event Description The City of Sanford is committed to ensuring we are inclusive and accepting of all people\, because the strength of our community is our diversity. The City of Sanford&rsquo\;s Race\, Equality\, Equity\, and Inclusion Advisory Committee and the Mayor&rsquo\;s Youth Council\, in partnership with PJI\, are hosting community conversations to hear the voice of our youth and work together to build a more equitable and inclusive future for all residents. This year\, we will explore Sanford&rsquo\;s history while amplifying youth perspectives on the issues that matter most today.
LOCATION:Dr. Velma H. Williams West Side Community Center 919 Persimmon Ave Sanford\, FL 32771
UID:e.1204.46061
SEQUENCE:3
DTSTAMP:20260422T141155Z
URL:http://business.owsrcc.org/events/details/sanford-speaks-04-06-2026-46061
END:VEVENT

END:VCALENDAR
